BEGIN:VCALENDAR
VERSION:2.0
PRODID:-//Norwich International School Bangkok, Thailand - ECPv6.15.20//NONSGML v1.0//EN
CALSCALE:GREGORIAN
METHOD:PUBLISH
X-WR-CALNAME:Norwich International School Bangkok, Thailand
X-ORIGINAL-URL:https://www.norwichschool.ac.th
X-WR-CALDESC:Events for Norwich International School Bangkok, Thailand
REFRESH-INTERVAL;VALUE=DURATION:PT1H
X-Robots-Tag:noindex
X-PUBLISHED-TTL:PT1H
BEGIN:VTIMEZONE
TZID:Asia/Bangkok
BEGIN:STANDARD
TZOFFSETFROM:+0700
TZOFFSETTO:+0700
TZNAME:+07
DTSTART:20250101T000000
END:STANDARD
END:VTIMEZONE
BEGIN:VEVENT
DTSTART;TZID=Asia/Bangkok:20260421T080000
DTEND;TZID=Asia/Bangkok:20260424T170000
DTSTAMP:20260424T154832
CREATED:20260402T061611Z
LAST-MODIFIED:20260402T061611Z
UID:17205-1776758400-1777050000@www.norwichschool.ac.th
SUMMARY:Photograph Week
DESCRIPTION:
URL:https://www.norwichschool.ac.th/event/photograph-week/
END:VEVENT
END:VCALENDAR